BEGIN:VCALENDAR
VERSION:2.0
PRODID:-//Krueger Rockt - ECPv6.15.20//NONSGML v1.0//EN
CALSCALE:GREGORIAN
METHOD:PUBLISH
X-ORIGINAL-URL:https://harald-krueger.de
X-WR-CALDESC:Veranstaltungen für Krueger Rockt
REFRESH-INTERVAL;VALUE=DURATION:PT1H
X-Robots-Tag:noindex
X-PUBLISHED-TTL:PT1H
BEGIN:VTIMEZONE
TZID:UTC
BEGIN:STANDARD
TZOFFSETFROM:+0000
TZOFFSETTO:+0000
TZNAME:UTC
DTSTART:20260101T000000
END:STANDARD
END:VTIMEZONE
BEGIN:VEVENT
DTSTART;TZID=UTC:20270910T180000
DTEND;TZID=UTC:20270910T220000
DTSTAMP:20260424T144729
CREATED:20260407T181440Z
LAST-MODIFIED:20260407T181440Z
UID:259853-1820599200-1820613600@harald-krueger.de
SUMMARY:KRÜGER ROCKT! (walking) - Berlin-Lichtenrade - Winzerfest
DESCRIPTION:Krüger Rockt! als walking act am 10. und 11.09.2027 beim Winzerfest in Berlin-Lichtenrader Winzerfest  rund um den Alten Dorfteich.
URL:https://harald-krueger.de/event/krueger-rockt-walking-weinfest-berlin-lichtenrade-6-2-3-2-2-2/
LOCATION:Dorfteich Lichtenrade\, Alt-Lichtenrade\, Berlin-Lichtenrade\, Berlin\, 12309\, Germany
CATEGORIES:Krüger Rockt!
ATTACH;FMTTYPE=image/jpeg:https://harald-krueger.de/wp-content/uploads/Backmulde_STE2693-1-scaled.jpg
END:VEVENT
END:VCALENDAR