BEGIN:VCALENDAR
VERSION:2.0
PRODID:-//Krueger Rockt - ECPv6.15.20//NONSGML v1.0//EN
CALSCALE:GREGORIAN
METHOD:PUBLISH
X-WR-CALNAME:Krueger Rockt
X-ORIGINAL-URL:https://harald-krueger.de
X-WR-CALDESC:Veranstaltungen für Krueger Rockt
REFRESH-INTERVAL;VALUE=DURATION:PT1H
X-Robots-Tag:noindex
X-PUBLISHED-TTL:PT1H
BEGIN:VTIMEZONE
TZID:UTC
BEGIN:STANDARD
TZOFFSETFROM:+0000
TZOFFSETTO:+0000
TZNAME:UTC
DTSTART:20250101T000000
END:STANDARD
END:VTIMEZONE
BEGIN:VEVENT
DTSTART;TZID=UTC:20260822T180000
DTEND;TZID=UTC:20260822T235900
DTSTAMP:20260419T140300
CREATED:20251015T113650Z
LAST-MODIFIED:20251015T113650Z
UID:259395-1787421600-1787443140@harald-krueger.de
SUMMARY:Krüger Rockt! (walking) - Fulda - Restaurant 1906
DESCRIPTION:Krüger Rockt! als walking-act bei der dritten Ausgabe der Geschmacksache im Restaurant 1906 zu Fulda. Im Line-Up viele Sterneköche und Top-Winzer.
URL:https://harald-krueger.de/event/krueger-rockt-walking-fulda-restaurant-1906-2-2/
LOCATION:Restaurant 1906\, Friedrichstraße 3\, Fulda\, Hessen\, 36037\, Germany
CATEGORIES:Krüger Rockt! (walking)
ATTACH;FMTTYPE=image/jpeg:https://harald-krueger.de/wp-content/uploads/DSCF1377-scaled.jpg
END:VEVENT
BEGIN:VEVENT
DTSTART;TZID=UTC:20260913T123000
DTEND;TZID=UTC:20260913T163000
DTSTAMP:20260419T140300
CREATED:20251115T091640Z
LAST-MODIFIED:20251115T091640Z
UID:259547-1789302600-1789317000@harald-krueger.de
SUMMARY:KRÜGER ROCKT! (walking) - Bülow Palais-Dresden
DESCRIPTION:Krüger Rockt! als walking-act im Bülow Palais zu Dresden anlässlich des kulinarischen Erntedankfestes.
URL:https://harald-krueger.de/event/krueger-rockt-walking-erntedank-rock-buelow-palais-dresden-2-2/
LOCATION:Bülow Palais\, Königstraße 14\, Dresden\, Sachsen\, 01097\, Deutschland
CATEGORIES:Krüger Rockt! (walking)
ATTACH;FMTTYPE=image/jpeg:https://harald-krueger.de/wp-content/uploads/KR-walking-Dresden.jpg
END:VEVENT
BEGIN:VEVENT
DTSTART;TZID=UTC:20261203T200000
DTEND;TZID=UTC:20261203T223000
DTSTAMP:20260419T140300
CREATED:20260116T073012Z
LAST-MODIFIED:20260116T165519Z
UID:258820-1796328000-1796337000@harald-krueger.de
SUMMARY:Harald Krüger (Solo) - Mannheim - Schatzkistl
DESCRIPTION:Harald Krüger mit seiner Solo Rock’n’Roll-Show im Schatzkistl zu Mannheim. \nKarten erhalten Sie an allen bekannten Vorverkaufsstellen in der Rhein-Neckar-Region\, unter anderem bei: \n\nCapitol Mannheim – Waldhofstraße 2\, Mannheim\, Tel: 0621 – 40 17 1420\nMannheimer Morgen Service- und Ticketshop Dudenstraße 12-26\, 68167 Mannheim\nWhistle – Fanwear · Tickets\, Q6\, 14\, Mannheim\, Tel: 0621 – 44 57 65 67\nSchwetzinger Zeitung – Carl-Theodor-Str. 1\, Schwetzingen\, Tel: 06202 – 205 205\nZigarren Grimm\, Sofienstrasse 11\, Heidelberg\, Tel: 06221 – 21159\nAbendkasse\nFür Kurzentschlossene gibt es meistens noch Restkarten an unserer Theaterkasse. Diese ist an Veranstaltungstagen ab einer Stunde vor Vorstellungsbeginn geöffnet. \nTel.-Nr.: 0621 – 400 52 52\nTelefonzeiten: an Veranstaltungsabenden von 19.00 Uhr bis 20.00 Uhr
URL:https://harald-krueger.de/event/harald-krueger-solo-mannheim-schatzkistl-2/
LOCATION:Schatzkistl\, Augustaanlage 4-8\, Mannheim\, Baden-Württemberg\, 68165\, Deutschland
CATEGORIES:Harald Krüger
ATTACH;FMTTYPE=image/jpeg:https://harald-krueger.de/wp-content/uploads/Harald_Solo_Schatzkistl_27.04.23_STE4150-scaled.jpg
ORGANIZER;CN="KulturNetz Mannheim Rhein-Neckar e.V.":MAILTO:info@kulturnetz.de
END:VEVENT
BEGIN:VEVENT
DTSTART;TZID=UTC:20270128T183000
DTEND;TZID=UTC:20270128T233000
DTSTAMP:20260419T140300
CREATED:20260209T101056Z
LAST-MODIFIED:20260209T101056Z
UID:259756-1801161000-1801179000@harald-krueger.de
SUMMARY:Harald Krüger (Solo) - Mainz - Barhalla - Haus der Füsiliere
DESCRIPTION:Harald Krüger (Solo) bei einer Piano Battle der besonderen Art mit dem Mainzer Dirigenten\, Komponisten und natürlich Pianisten Adrian Werum in einer Arena mit 2 Pianos.
URL:https://harald-krueger.de/event/harald-krueger-solo-mainz-barhalla-haus-der-fuesiliere-2/
LOCATION:Haus der Füsiliere\, An der Fahrt 6\, Mainz-Gonsenheim\, Rheinland-Pfalz\, 55124\, Germany
CATEGORIES:Harald Krüger
ATTACH;FMTTYPE=image/png:https://harald-krueger.de/wp-content/uploads/Barhalla.png
END:VEVENT
BEGIN:VEVENT
DTSTART;TZID=UTC:20270130T190000
DTEND;TZID=UTC:20270130T233000
DTSTAMP:20260419T140300
CREATED:20260309T094010Z
LAST-MODIFIED:20260309T094010Z
UID:259806-1801335600-1801351800@harald-krueger.de
SUMMARY:Krüger Rockt! - Erlangen - Jazzbandball
DESCRIPTION:Krüger Rockt! beim Jazzbandball im Redoutensaal zu Erlangen.
URL:https://harald-krueger.de/event/krueger-rockt-erlangen-jazzbandball-2/
LOCATION:Redoutensaal\, Theaterplatz 1\, Erlangen\, Bayern\, 91054\, Germany
CATEGORIES:Krüger Rockt!
ATTACH;FMTTYPE=image/jpeg:https://harald-krueger.de/wp-content/uploads/IMG_1682-1-scaled.jpg
END:VEVENT
BEGIN:VEVENT
DTSTART;TZID=UTC:20270219T200000
DTEND;TZID=UTC:20270219T230000
DTSTAMP:20260419T140300
CREATED:20260305T141346Z
LAST-MODIFIED:20260305T141346Z
UID:259796-1803067200-1803078000@harald-krueger.de
SUMMARY:KRÜGER ROCKT! - Ramstein - Rockabilly Night
DESCRIPTION:Krüger Rockt! bei der dritten Rock’n’Roll und Rockabilly-Party im Congress-Zentrum zu Ramstein in der Pfalz. Beste Bedingungen für alle Tänzer.
URL:https://harald-krueger.de/event/krueger-rockt-ramstein-rockabilly-night-2-2/
LOCATION:Congress Center Ramstein\, Am neuen Markt 4\, Ramstein\, Rheinland-Pfalz\, 66877\, Deutschland
CATEGORIES:Krüger Rockt!
ATTACH;FMTTYPE=image/jpeg:https://harald-krueger.de/wp-content/uploads/DSC_7786-scaled.jpg
END:VEVENT
BEGIN:VEVENT
DTSTART;TZID=UTC:20270429T200000
DTEND;TZID=UTC:20270429T223000
DTSTAMP:20260419T140300
CREATED:20260120T104717Z
LAST-MODIFIED:20260120T104717Z
UID:259686-1809028800-1809037800@harald-krueger.de
SUMMARY:Harald Krüger (Solo) - Mannheim - Schatzkistl
DESCRIPTION:Harald Krüger mit seiner Solo Rock’n’Roll-Show im Schatzkistl zu Mannheim. \nKarten erhalten Sie an allen bekannten Vorverkaufsstellen in der Rhein-Neckar-Region\, unter anderem bei: \n\nCapitol Mannheim – Waldhofstraße 2\, Mannheim\, Tel: 0621 – 40 17 1420\nMannheimer Morgen Service- und Ticketshop Dudenstraße 12-26\, 68167 Mannheim\nWhistle – Fanwear · Tickets\, Q6\, 14\, Mannheim\, Tel: 0621 – 44 57 65 67\nSchwetzinger Zeitung – Carl-Theodor-Str. 1\, Schwetzingen\, Tel: 06202 – 205 205\nZigarren Grimm\, Sofienstrasse 11\, Heidelberg\, Tel: 06221 – 21159\nAbendkasse\nFür Kurzentschlossene gibt es meistens noch Restkarten an unserer Theaterkasse. Diese ist an Veranstaltungstagen ab einer Stunde vor Vorstellungsbeginn geöffnet. \nTel.-Nr.: 0621 – 400 52 52\nTelefonzeiten: an Veranstaltungsabenden von 19.00 Uhr bis 20.00 Uhr
URL:https://harald-krueger.de/event/harald-krueger-solo-mannheim-schatzkistl-2-3/
LOCATION:Schatzkistl\, Augustaanlage 4-8\, Mannheim\, Baden-Württemberg\, 68165\, Deutschland
CATEGORIES:Harald Krüger
ATTACH;FMTTYPE=image/jpeg:https://harald-krueger.de/wp-content/uploads/Harald_Solo_Schatzkistl_27.04.23_STE4150-scaled.jpg
ORGANIZER;CN="KulturNetz Mannheim Rhein-Neckar e.V.":MAILTO:info@kulturnetz.de
END:VEVENT
END:VCALENDAR