BEGIN:VCALENDAR
VERSION:2.0
PRODID:-//Krueger Rockt - ECPv6.15.20//NONSGML v1.0//EN
CALSCALE:GREGORIAN
METHOD:PUBLISH
X-WR-CALNAME:Krueger Rockt
X-ORIGINAL-URL:https://harald-krueger.de
X-WR-CALDESC:Veranstaltungen für Krueger Rockt
REFRESH-INTERVAL;VALUE=DURATION:PT1H
X-Robots-Tag:noindex
X-PUBLISHED-TTL:PT1H
BEGIN:VTIMEZONE
TZID:UTC
BEGIN:STANDARD
TZOFFSETFROM:+0000
TZOFFSETTO:+0000
TZNAME:UTC
DTSTART:20250101T000000
END:STANDARD
END:VTIMEZONE
BEGIN:VEVENT
DTSTART;TZID=UTC:20260207T183000
DTEND;TZID=UTC:20260208T010000
DTSTAMP:20260420T155547
CREATED:20251107T094621Z
LAST-MODIFIED:20251208T074333Z
UID:259516-1770489000-1770512400@harald-krueger.de
SUMMARY:Krüger Rockt! - Erlangen - Jazzbandball
DESCRIPTION:Krüger Rockt! beim Jazzbandball im Redoutensaal zu Erlangen. Mit dabei die Dixie Bones und die Big Band Eckental. Weitere Infos unter 0162 8925000. \nTickets buchen
URL:https://harald-krueger.de/event/krueger-rockt-erlangen-jazzbandball/
LOCATION:Redoutensaal\, Theaterplatz 1\, Erlangen\, Bayern\, 91054\, Germany
CATEGORIES:Krüger Rockt!
ATTACH;FMTTYPE=image/png:https://harald-krueger.de/wp-content/uploads/Jazzbandball.png
END:VEVENT
END:VCALENDAR