BEGIN:VCALENDAR
VERSION:2.0
PRODID:-//Krueger Rockt - ECPv6.15.20//NONSGML v1.0//EN
CALSCALE:GREGORIAN
METHOD:PUBLISH
X-ORIGINAL-URL:https://harald-krueger.de
X-WR-CALDESC:Veranstaltungen für Krueger Rockt
REFRESH-INTERVAL;VALUE=DURATION:PT1H
X-Robots-Tag:noindex
X-PUBLISHED-TTL:PT1H
BEGIN:VTIMEZONE
TZID:UTC
BEGIN:STANDARD
TZOFFSETFROM:+0000
TZOFFSETTO:+0000
TZNAME:UTC
DTSTART:20230101T000000
END:STANDARD
END:VTIMEZONE
BEGIN:VEVENT
DTSTART;TZID=UTC:20241231T180000
DTEND;TZID=UTC:20250101T010000
DTSTAMP:20260424T110349
CREATED:20240226T105614Z
LAST-MODIFIED:20241126T094520Z
UID:258219-1735668000-1735693200@harald-krueger.de
SUMMARY:Krüger Rockt! (walking) - Bissersheim - Halbstück
DESCRIPTION:Nach dem großen Erfolg der letztjährigen Silvesterveranstaltung gab es einfach keinen anderen gangbaren Weg als die Protagonisten auch wieder in diesem Jahren zusammenzubringen. Ein Tipp: Sichert Euch rechtzeitig Eure Karten.
URL:https://harald-krueger.de/event/krueger-rockt-walking-bissersheim-halbstueck-2/
LOCATION:Knipsers Halbstück – Christian Rubert\, Hollergasse 2\, Bissersheim\, Rheinland-Pfalz\, 67281\, Deutschland
CATEGORIES:Krüger Rockt! (walking)
ATTACH;FMTTYPE=image/jpeg:https://harald-krueger.de/wp-content/uploads/Krueger-Rockt-VDMA-Frankfurt-2-scaled.jpg
END:VEVENT
BEGIN:VEVENT
DTSTART;TZID=UTC:20250118T190000
DTEND;TZID=UTC:20250118T233000
DTSTAMP:20260424T110349
CREATED:20240323T134843Z
LAST-MODIFIED:20241212T164527Z
UID:258345-1737226800-1737243000@harald-krueger.de
SUMMARY:KRÜGER ROCKT! (walking) - Küchenparty - Meisenheimer Hof - AUSVERKAUFT
DESCRIPTION:Krüger Rockt! als walking act im Meisenheimer Hof bei der Küchenparty. Die Veranstaltung ist ausverkauft!
URL:https://harald-krueger.de/event/krueger-rockt-walking-kuechenparty-meisenheimer-hof-2-2/
LOCATION:Meisenheimer Hof\, Obergasse 33\, Meisenheim\, Rheinland-Pfalz\, 55590\, Deutschland
CATEGORIES:Krüger Rockt! (walking)
ATTACH;FMTTYPE=image/jpeg:https://harald-krueger.de/wp-content/uploads/P1014928-scaled.jpg
ORGANIZER;CN="Meisenheimer Hof GmbH & Co. KG":MAILTO:mail@meisenheimer-hof.de
END:VEVENT
BEGIN:VEVENT
DTSTART;TZID=UTC:20250123T200000
DTEND;TZID=UTC:20250123T220000
DTSTAMP:20260424T110349
CREATED:20211031T091411Z
LAST-MODIFIED:20250120T083236Z
UID:9281-1737662400-1737669600@harald-krueger.de
SUMMARY:Harald Krüger & Walt Bender - Schatzkistl - Mannheim - AUSVERKAUFT
DESCRIPTION:Aufgrund des enormen Bittens und Flehens seitens der Anhängerschaft – nicht zuletzt nach dem ausverkauften Konzert im Januar 2023 – haben wir uns noch einmal\, diesmal aber wirklich zum einzigen und letzten Male\, breitschlagen lassen\, noch einmal diese abgefahrene und durchgeknallte Show mit Hits und Schlagern aus sieben Jahrzehnten für Euch zum besten zu geben. Die einzige Revival-Show weltweit – und das in Mannheim. Ein absolutes Must-Have. \nVerlegt vom Januar 2024. \nKarten erhalten Sie an allen bekannten Vorverkaufsstellen in der Rhein-Neckar-Region\, unter anderem bei: \n\nCapitol Mannheim – Waldhofstraße 2\, Mannheim\, Tel: 0621 – 40 17 1420\nMannheimer Morgen Service- und Ticketshop Dudenstraße 12-26\, 68167 Mannheim\nWhistle – Fanwear · Tickets\, Q6\, 14\, Mannheim\, Tel: 0621 – 44 57 65 67\nSchwetzinger Zeitung – Carl-Theodor-Str. 1\, Schwetzingen\, Tel: 06202 – 205 205\nZigarren Grimm\, Sofienstrasse 11\, Heidelberg\, Tel: 06221 – 21159\nAbendkasse\nFür Kurzentschlossene gibt es meistens noch Restkarten an unserer Theaterkasse. Diese ist an Veranstaltungstagen ab einer Stunde vor Vorstellungsbeginn geöffnet. \nTel.-Nr.: 0621 – 400 52 52\nTelefonzeiten: an Veranstaltungsabenden von 19.00 Uhr bis 20.00 Uhr
URL:https://harald-krueger.de/event/harald-krueger-walt-bender-schatzkistl-mannheim/
LOCATION:Schatzkistl\, Augustaanlage 4-8\, Mannheim\, Baden-Württemberg\, 68165\, Deutschland
CATEGORIES:Harald Krüger & Walt Bender
ATTACH;FMTTYPE=image/jpeg:https://harald-krueger.de/wp-content/uploads/X_STE3416-scaled.jpg
ORGANIZER;CN="KulturNetz Mannheim Rhein-Neckar e.V.":MAILTO:info@kulturnetz.de
END:VEVENT
END:VCALENDAR