BEGIN:VCALENDAR
VERSION:2.0
PRODID:-//Krueger Rockt - ECPv6.15.20//NONSGML v1.0//EN
CALSCALE:GREGORIAN
METHOD:PUBLISH
X-ORIGINAL-URL:https://harald-krueger.de
X-WR-CALDESC:Veranstaltungen für Krueger Rockt
REFRESH-INTERVAL;VALUE=DURATION:PT1H
X-Robots-Tag:noindex
X-PUBLISHED-TTL:PT1H
BEGIN:VTIMEZONE
TZID:UTC
BEGIN:STANDARD
TZOFFSETFROM:+0000
TZOFFSETTO:+0000
TZNAME:UTC
DTSTART:20250101T000000
END:STANDARD
END:VTIMEZONE
BEGIN:VEVENT
DTSTART;TZID=UTC:20260710T180000
DTEND;TZID=UTC:20260710T180000
DTSTAMP:20260419T142921
CREATED:20251125T084913Z
LAST-MODIFIED:20260128T145200Z
UID:259587-1783706400-1783706400@harald-krueger.de
SUMMARY:Krüger Rockt! (walking) - Heinsberg - Otto-Gourmet
DESCRIPTION:Krüger Rockt! als walking-act bei der „Meat The Master-Party“ in Heinsberg bei bei Otto-Gourmet. Es gibt auch ein Kombiticket für die Meat the Master Party am und die Beef Bottle-Party am 11.07.26 (OP € 222.-) für € 359.-. \nTickets buchen
URL:https://harald-krueger.de/event/krueger-rockt-walking-heinsberg-otto-gourmet-2-2/
LOCATION:Otto Gourmet\, Boos-Fremery-Straße 62 ; Bizzpark Oberbruch\, Heinsberg\, Nordrhein-Westfalen\, 52525\, Germany
CATEGORIES:Krüger Rockt!
ATTACH;FMTTYPE=image/png:https://harald-krueger.de/wp-content/uploads/Meat-The-Master.png
END:VEVENT
BEGIN:VEVENT
DTSTART;TZID=UTC:20260711T180000
DTEND;TZID=UTC:20260711T180000
DTSTAMP:20260419T142921
CREATED:20251125T085437Z
LAST-MODIFIED:20260128T145411Z
UID:259591-1783792800-1783792800@harald-krueger.de
SUMMARY:Krüger Rockt! (walking) - Heinsberg - Otto-Gourmet
DESCRIPTION:Krüger Rockt! als walking-act bei der „Beef Bottle Party“ in Heinsberg bei Otto-Gourmet. Es gibt auch ein Kombiticket für die Meat the Master Party am 10.07.26 (OP € 159.-) und die Beef Bottle-Party für € 359.-. \nTickets buchen
URL:https://harald-krueger.de/event/krueger-rockt-walking-heinsberg-otto-gourmet-2-3/
LOCATION:Otto Gourmet\, Boos-Fremery-Straße 62 ; Bizzpark Oberbruch\, Heinsberg\, Nordrhein-Westfalen\, 52525\, Germany
CATEGORIES:Krüger Rockt!
ATTACH;FMTTYPE=image/png:https://harald-krueger.de/wp-content/uploads/Beef-Bottle-Party.png
END:VEVENT
BEGIN:VEVENT
DTSTART;TZID=UTC:20260725T180000
DTEND;TZID=UTC:20260725T235900
DTSTAMP:20260419T142921
CREATED:20251028T150608Z
LAST-MODIFIED:20260410T120632Z
UID:259460-1785002400-1785023940@harald-krueger.de
SUMMARY:Krüger Rockt! (walking) - Krone Alzenau - Sommernachtsfest
DESCRIPTION:Krüger Rockt! als walking.-act im Stile einer Küchenparty in der Krone Alzenau-Wasserlos. \nMit dabei sind André Großfeld\, Stefan Eder\, Mario Bruni. \nTickets buchen \n 
URL:https://harald-krueger.de/event/krueger-rockt-walking-krone-alzenau-sommernachtsfest-2/
LOCATION:Krone Alzenau\, Hahnenkammstraße 37\, Alzenau-Wasserlos\, Bayern\, 63755\, Germany
CATEGORIES:Krüger Rockt!
ATTACH;FMTTYPE=image/jpeg:https://harald-krueger.de/wp-content/uploads/Krueger-Rockt-Alzenau-25.07.26.jpeg
END:VEVENT
END:VCALENDAR