BEGIN:VCALENDAR
VERSION:2.0
PRODID:-//Krueger Rockt - ECPv6.15.20//NONSGML v1.0//EN
CALSCALE:GREGORIAN
METHOD:PUBLISH
X-ORIGINAL-URL:https://harald-krueger.de
X-WR-CALDESC:Veranstaltungen für Krueger Rockt
REFRESH-INTERVAL;VALUE=DURATION:PT1H
X-Robots-Tag:noindex
X-PUBLISHED-TTL:PT1H
BEGIN:VTIMEZONE
TZID:UTC
BEGIN:STANDARD
TZOFFSETFROM:+0000
TZOFFSETTO:+0000
TZNAME:UTC
DTSTART:20250101T000000
END:STANDARD
END:VTIMEZONE
BEGIN:VEVENT
DTSTART;TZID=UTC:20260801T170000
DTEND;TZID=UTC:20260801T220000
DTSTAMP:20260425T123702
CREATED:20251126T150612Z
LAST-MODIFIED:20260326T184011Z
UID:259603-1785603600-1785621600@harald-krueger.de
SUMMARY:Krüger Rockt! (walking) - Erbach - Rheingau Musikfestival - AUSVERKAUFT
DESCRIPTION:Krüger Rockt! als walking-act bei der Steinberger Tafelrunde im Rahmen des Rheingau Musikfestivals. Die Veranstaltung ist ausverkauft. \nTickets buchen
URL:https://harald-krueger.de/event/krueger-rockt-walking-eltville-rheingau-musikfestival/
LOCATION:Eberbacher Steinberg\, Eberbacher Steinberg\, Eltville\, Hessen\, 65346\, Germany
CATEGORIES:Krüger Rockt!
ATTACH;FMTTYPE=image/jpeg:https://harald-krueger.de/wp-content/uploads/P1014835-1-scaled.jpg
END:VEVENT
BEGIN:VEVENT
DTSTART;TZID=UTC:20260802T140000
DTEND;TZID=UTC:20260802T170000
DTSTAMP:20260425T123702
CREATED:20251028T150105Z
LAST-MODIFIED:20251028T150105Z
UID:259458-1785679200-1785690000@harald-krueger.de
SUMMARY:KRÜGER ROCKT! (walking) - Weingut Metzger - Grünstadt-Asselheim
DESCRIPTION:Krüger Rockt! als walking-act beim Charity Hoffest im Weingut Metzger zu Grünstadt Asselheim am Sonntag\, dem 02. August 26\, ab 14:00 Uhr.
URL:https://harald-krueger.de/event/krueger-rockt-walking-weingut-metzger-gruenstadt-asselheim-2-2/
LOCATION:Weingut Metzger\, Langgasse 32-34\, Grünstadt-Asselheim\, Rheinland-Pfalz\, 67269\, Deutschland
CATEGORIES:Krüger Rockt!
ATTACH;FMTTYPE=image/jpeg:https://harald-krueger.de/wp-content/uploads/Krueger-Rockt-walking.jpg
END:VEVENT
BEGIN:VEVENT
DTSTART;TZID=UTC:20260809T110000
DTEND;TZID=UTC:20260809T123000
DTSTAMP:20260425T123702
CREATED:20251028T145605Z
LAST-MODIFIED:20251028T145605Z
UID:259456-1786273200-1786278600@harald-krueger.de
SUMMARY:Krüger Rockt! (walking) - Pfälzer Foodrock Festival - Krickenbach
DESCRIPTION:Auch in diesem Jahr Krüger Rockt! als walking-act beim Pfälzer Foodrock-Festival im Steinbruch Picard zu Krickenbach bei Kasierslautern. \nTickets buchen
URL:https://harald-krueger.de/event/krueger-rockt-pfaelzer-foodrock-festival-krickenbach-2/
LOCATION:Steinbruch Picard\, Schweinstal\, Krickenbach\, Rheinland-Pfalz\, 67706\, Deutschland
CATEGORIES:Harald Krüger
ATTACH;FMTTYPE=image/jpeg:https://harald-krueger.de/wp-content/uploads/Krueger-Rockt-Krckenbach.jpg
ORGANIZER;CN="Corporate Food Catering GmbH":MAILTO:kontakt@peter-scharff.de
END:VEVENT
BEGIN:VEVENT
DTSTART;TZID=UTC:20260812T181500
DTEND;TZID=UTC:20260812T220000
DTSTAMP:20260425T123702
CREATED:20260409T091725Z
LAST-MODIFIED:20260409T091725Z
UID:259859-1786558500-1786572000@harald-krueger.de
SUMMARY:Krüger Rockt! - Frankfurt am Main - Apfelweinfest
DESCRIPTION:Krüger Rockt! beim Apfelweinfest in Frankfurt am Main auf dem Goetheplatz.
URL:https://harald-krueger.de/event/krueger-rockt-frankfurt-am-main-apfelweinfest/
LOCATION:Goetheplatz\, Roßmarkt\, Frankfurt am Main\, Hessen\, 60311\, Germany
CATEGORIES:Krüger Rockt!
ATTACH;FMTTYPE=image/jpeg:https://harald-krueger.de/wp-content/uploads/KruegerRockt-030-1-scaled.jpg
END:VEVENT
BEGIN:VEVENT
DTSTART;TZID=UTC:20260822T180000
DTEND;TZID=UTC:20260822T235900
DTSTAMP:20260425T123702
CREATED:20251015T113650Z
LAST-MODIFIED:20251015T113650Z
UID:259395-1787421600-1787443140@harald-krueger.de
SUMMARY:Krüger Rockt! (walking) - Fulda - Restaurant 1906
DESCRIPTION:Krüger Rockt! als walking-act bei der dritten Ausgabe der Geschmacksache im Restaurant 1906 zu Fulda. Im Line-Up viele Sterneköche und Top-Winzer.
URL:https://harald-krueger.de/event/krueger-rockt-walking-fulda-restaurant-1906-2-2/
LOCATION:Restaurant 1906\, Friedrichstraße 3\, Fulda\, Hessen\, 36037\, Germany
CATEGORIES:Krüger Rockt! (walking)
ATTACH;FMTTYPE=image/jpeg:https://harald-krueger.de/wp-content/uploads/DSCF1377-scaled.jpg
END:VEVENT
END:VCALENDAR